BEGIN:VCALENDAR
VERSION:2.0
PRODID:-//Orange County Gastroenterology Society - ECPv4.6.12.1//NONSGML v1.0//EN
CALSCALE:GREGORIAN
METHOD:PUBLISH
X-WR-CALNAME:Orange County Gastroenterology Society
X-ORIGINAL-URL:http://www.ocgisociety.com
X-WR-CALDESC:Events for Orange County Gastroenterology Society
BEGIN:VEVENT
DTSTART;TZID=UTC+0:20180926T180000
DTEND;TZID=UTC+0:20180926T203000
DTSTAMP:20260425T011706
CREATED:20180716T014033Z
LAST-MODIFIED:20180919T043404Z
UID:753-1537984800-1537993800@www.ocgisociety.com
SUMMARY:September 26\, 2018 OCGI Monthly Educational Dinner Program
DESCRIPTION:\n                            \n                                \n                            \n                        OCGI’s September 26\, 2018 Monthly Educational Dinner Program will be part one of a two part IBD Alliance/CME qualifying presentation by the GI Health Foundation.  This program is essential given the rapidly evolving treatment/management of IBD and the realization that the number of patients diagnosed and treated remains low. \nAs a participant\, you and a small group of peers will be asked to participate in two (2) CME case study review sessions. This first presentation is worth 1.5 CME credits and is clinical.  The second of the two will be on November 28\, 2018 on case study. \n \n  \nGil Y. Melmed\, MD serves as the Director of Clinical Inflammatory Bowel Disease\, Advanced Inflammatory Bowel Disease Fellowship Program and Clinical Research in the Division of Gastroenterology at Cedars-Sinai. \n \n \nRegistration begins at 6:00 pm and the dinner presentation promptly at 6:30 pm.\n \nNon-members pay $25 at the door. Please consider supporting OCGI and becoming a member by checking out our Membership page.\n[captainform id=”760631″] \n  \n  \n
URL:http://www.ocgisociety.com/event/september-26-2018/
LOCATION:3333 Bristol Street\, Costa Mesa\, CA\, 92626\, United States
END:VEVENT
END:VCALENDAR