BEGIN:VCALENDAR
VERSION:2.0
PRODID:-//Orange County Gastroenterology Society - ECPv4.6.12.1//NONSGML v1.0//EN
CALSCALE:GREGORIAN
METHOD:PUBLISH
X-WR-CALNAME:Orange County Gastroenterology Society
X-ORIGINAL-URL:http://www.ocgisociety.com
X-WR-CALDESC:Events for Orange County Gastroenterology Society
BEGIN:VEVENT
DTSTART;TZID=UTC+0:20190925T183000
DTEND;TZID=UTC+0:20190925T203000
DTSTAMP:20260424T193009
CREATED:20190916T231649Z
LAST-MODIFIED:20190916T231649Z
UID:871-1569436200-1569443400@www.ocgisociety.com
SUMMARY:September 25\, 2019 OCGI Monthly Educational Dinner Meeting
DESCRIPTION:\n                            \n                                \n                            \n                        Ke-Quin Hu\, MD of UCI Health Center will be presenting a CME Presentation on Hepatic Encephalopathy at this month’s dinner sponsored by Focus Medical. \n\n\n\n \n\n\n\nKe-Quin Hu\, MD \nRegistration begins at 6:30 pm and the dinner presentation promptly at 7:00 pm.\n \nNon-members pay $25 at the door. Please consider supporting OCGI and becoming a member by checking out our Membership page.\n[captainform id=”760631″]\n
URL:http://www.ocgisociety.com/event/september-25-2019/
LOCATION:3333 Bristol Street\, Costa Mesa\, CA\, 92626\, United States
END:VEVENT
END:VCALENDAR