BEGIN:VCALENDAR
VERSION:2.0
PRODID:-//Orange County Gastroenterology Society - ECPv4.6.12.1//NONSGML v1.0//EN
CALSCALE:GREGORIAN
METHOD:PUBLISH
X-WR-CALNAME:Orange County Gastroenterology Society
X-ORIGINAL-URL:http://www.ocgisociety.com
X-WR-CALDESC:Events for Orange County Gastroenterology Society
BEGIN:VEVENT
DTSTART;TZID=UTC+0:20250924T183000
DTEND;TZID=UTC+0:20250924T203000
DTSTAMP:20260423T232305
CREATED:20250506T173520Z
LAST-MODIFIED:20250910T214740Z
UID:1301-1758738600-1758745800@www.ocgisociety.com
SUMMARY:September 24th\, 2025 OCGI Monthly Educational Meeting
DESCRIPTION:\n                            \n                                \n                            \n                        \n\n\nRobert Gish\, MD of Loma Linda University Health will be presenting on The Role of FXR in Cholestatic Liver Disease at this month’s dinner meeting sponsored by Intercept Pharmaceuticals. \n \n\n\n\n  \n  \n  \n  \n  \n  \n  \nRobert Gish\, MD \n\n\n\nThis month’s dinner meeting will be on Updates in Treatment of Ulcerative Colitis sponsored by Janssen Biotech. \n\n\n\n\nRegistration begins at 6:30 pm and the dinner presentation promptly at 7:00 pm.\n \nNon-members pay $35 at the door. Please consider supporting OCGI and becoming a member by checking out our Membership page.\n\n \n[captainform id=”760631″]\n
URL:http://www.ocgisociety.com/event/september-24th-2025/
LOCATION:19530 Jamboree Rd\, Irvine\, CA\, 92612\, United States
END:VEVENT
END:VCALENDAR