BEGIN:VCALENDAR
VERSION:2.0
PRODID:-//Orange County Gastroenterology Society - ECPv4.6.12.1//NONSGML v1.0//EN
CALSCALE:GREGORIAN
METHOD:PUBLISH
X-WR-CALNAME:Orange County Gastroenterology Society
X-ORIGINAL-URL:http://www.ocgisociety.com
X-WR-CALDESC:Events for Orange County Gastroenterology Society
BEGIN:VEVENT
DTSTART;TZID=UTC+0:20240918T183000
DTEND;TZID=UTC+0:20240918T203000
DTSTAMP:20260424T042335
CREATED:20240811T232044Z
LAST-MODIFIED:20240917T030446Z
UID:1219-1726684200-1726691400@www.ocgisociety.com
SUMMARY:September 18th\, 2024 OCGI Monthly Educational Meeting (Canceled)
DESCRIPTION:\n                            \n                                \n                            \n                        \nJulio Gutierrez\, MD affiliated with the Scripps Health will be presenting on Clinical Trial and Real World Experience in PBC at this month’s dinner meeting sponsored by Intercept Pharmaceuticals. \n\n\n \n \n \n \n \n \n \n \n \nJulio Gutierrez\, MD\n \n\nRegistration begins at 6:30 pm and the dinner presentation promptly at 7:00 pm.\n \nNon-members pay $35 at the door. Please consider supporting OCGI and becoming a member by checking out our Membership page.\n\n \n[captainform id=”760631″]\n
URL:http://www.ocgisociety.com/event/september-18th-2024/
LOCATION:3800 South Plaza Drive\, Santa Ana\, CA\, 92704\, United States
END:VEVENT
END:VCALENDAR