BEGIN:VCALENDAR
VERSION:2.0
PRODID:-//Orange County Gastroenterology Society - ECPv4.6.12.1//NONSGML v1.0//EN
CALSCALE:GREGORIAN
METHOD:PUBLISH
X-WR-CALNAME:Orange County Gastroenterology Society
X-ORIGINAL-URL:http://www.ocgisociety.com
X-WR-CALDESC:Events for Orange County Gastroenterology Society
BEGIN:VEVENT
DTSTART;TZID=UTC+0:20230913T183000
DTEND;TZID=UTC+0:20230913T203000
DTSTAMP:20260424T090416
CREATED:20230622T135544Z
LAST-MODIFIED:20230822T180206Z
UID:1145-1694629800-1694637000@www.ocgisociety.com
SUMMARY:September 13th\, 2023 OCGI Monthly Educational Meeting
DESCRIPTION:\n                            \n                                \n                            \n                        \n\n  \nKe-Qin Hu\, MD of UCI Health will be presenting on Taking Current PBC Treatment Further at this month’s dinner meeting sponsored by Intercept Pharmaceuticals. \n\n\n\n\n \n \n \n\n \n \n\n \n \n \nKe-Qin Hu\, MD\n \nRegistration begins at 6:30 pm and the dinner presentation promptly at 7:00 pm.\n \nNon-members pay $35 at the door. Please consider supporting OCGI and becoming a member by checking out our Membership page.\n\n \n[captainform id=”760631″]\n
URL:http://www.ocgisociety.com/event/september-13th-2023/
LOCATION:633 Anton Boulevard\, Costa Mesa\, CA\, 92626\, United States
END:VEVENT
END:VCALENDAR