BEGIN:VCALENDAR
VERSION:2.0
PRODID:-//Orange County Gastroenterology Society - ECPv4.6.12.1//NONSGML v1.0//EN
CALSCALE:GREGORIAN
METHOD:PUBLISH
X-WR-CALNAME:Orange County Gastroenterology Society
X-ORIGINAL-URL:http://www.ocgisociety.com
X-WR-CALDESC:Events for Orange County Gastroenterology Society
BEGIN:VEVENT
DTSTART;TZID=UTC+0:20241002T183000
DTEND;TZID=UTC+0:20241002T203000
DTSTAMP:20260424T032821
CREATED:20240811T234843Z
LAST-MODIFIED:20240917T031225Z
UID:1222-1727893800-1727901000@www.ocgisociety.com
SUMMARY:October 2nd\, 2024 OCGI Monthly Educational Meeting
DESCRIPTION:\n                            \n                                \n                            \n                        \nLaith Al Momani\, MD  will be presenting on Clinical Trial Evidence in Crohn’s and Ulcerative Colitis Treatment at this month’s dinner meeting sponsored by Takeda Pharmaceuticals . \n \n\n  \n  \n  \n  \n  \n  \nLaith Al Momani\, MD \nRegistration begins at 6:30 pm and the dinner presentation promptly at 7:00 pm.\n\nNon-members pay $35 at the door. Please consider supporting OCGI and becoming a member by checking out our Membership page.\n\n[captainform id=”760631″]\n
URL:http://www.ocgisociety.com/event/october-2nd-2024/
LOCATION:3333 Bristol Street\, Costa Mesa\, CA\, 92626\, United States
END:VEVENT
END:VCALENDAR