BEGIN:VCALENDAR
VERSION:2.0
PRODID:-//Orange County Gastroenterology Society - ECPv4.6.12.1//NONSGML v1.0//EN
CALSCALE:GREGORIAN
METHOD:PUBLISH
X-WR-CALNAME:Orange County Gastroenterology Society
X-ORIGINAL-URL:http://www.ocgisociety.com
X-WR-CALDESC:Events for Orange County Gastroenterology Society
BEGIN:VEVENT
DTSTART;TZID=UTC+0:20221026T183000
DTEND;TZID=UTC+0:20221026T203000
DTSTAMP:20260424T130026
CREATED:20221006T225115Z
LAST-MODIFIED:20221017T173534Z
UID:1082-1666809000-1666816200@www.ocgisociety.com
SUMMARY:October 26th\, 2022 OCGI Monthly Educational Meeting
DESCRIPTION:\n                            \n                                \n                            \n                        Sammy Saab\, MD  of UCLA Health will be presenting on New Concepts in Acute Kidney Injury for the Practicing Gastroenterologist at this month’s dinner meeting is sponsored by UCLA Health. \n \n  \n  \n  \n  \n  \n  \n  \nSammy Saab\, MD \nRegistration begins at 6:30 pm and the dinner presentation promptly at 7:00 pm. \n\nNon-members pay $35 at the door. Please consider supporting OCGI and becoming a member by checking out our Membership page.\n \n\n[captainform id=”760631″]\n
URL:http://www.ocgisociety.com/event/october-26-2022/
LOCATION:3800 South Plaza Drive\, Santa Ana\, CA\, 92704\, United States
END:VEVENT
END:VCALENDAR