BEGIN:VCALENDAR
VERSION:2.0
PRODID:-//Orange County Gastroenterology Society - ECPv4.6.12.1//NONSGML v1.0//EN
CALSCALE:GREGORIAN
METHOD:PUBLISH
X-WR-CALNAME:Orange County Gastroenterology Society
X-ORIGINAL-URL:http://www.ocgisociety.com
X-WR-CALDESC:Events for Orange County Gastroenterology Society
BEGIN:VEVENT
DTSTART;TZID=UTC+0:20191023T183000
DTEND;TZID=UTC+0:20191023T203000
DTSTAMP:20260424T194227
CREATED:20191006T044134Z
LAST-MODIFIED:20191006T044403Z
UID:877-1571855400-1571862600@www.ocgisociety.com
SUMMARY:October 23\, 2019 OCGI Monthly Educational Dinner Meeting
DESCRIPTION:\n                            \n                                \n                            \n                        Catherine Frenette\, MD of Scripps Green Hospital will be presenting on Connecting HCV Care and Addiction Medicine at this month’s dinner sponsored by GILEAD. \n\n\n\n \n\n\n\n  \n  \n  \n  \n  \n  \n  \nCatherine Frenette\, MD \nRegistration begins at 6:30 pm and the dinner presentation promptly at 7:00 pm.\n \nNon-members pay $25 at the door. Please consider supporting OCGI and becoming a member by checking out our Membership page.\n[captainform id=”760631″]\n
URL:http://www.ocgisociety.com/event/october-23-2019/
LOCATION:1641 West Sunflower Avenue\, Santa Ana\, CA\, 92704\, United States
END:VEVENT
END:VCALENDAR