BEGIN:VCALENDAR
VERSION:2.0
PRODID:-//Orange County Gastroenterology Society - ECPv4.6.12.1//NONSGML v1.0//EN
CALSCALE:GREGORIAN
METHOD:PUBLISH
X-WR-CALNAME:Orange County Gastroenterology Society
X-ORIGINAL-URL:http://www.ocgisociety.com
X-WR-CALDESC:Events for Orange County Gastroenterology Society
BEGIN:VEVENT
DTSTART;TZID=UTC+0:20171018T183000
DTEND;TZID=UTC+0:20171018T210000
DTSTAMP:20260423T192104
CREATED:20170113T200032Z
LAST-MODIFIED:20171017T025439Z
UID:272-1508351400-1508360400@www.ocgisociety.com
SUMMARY:October 18\, 2017 OCGI Monthly Educational Dinner Program
DESCRIPTION:\n                            \n                                \n                            \n                        OCGI’s October 18\, 2017 Monthly Educational Dinner Program is part two of a two part IBD Alliance/CME qualifying presentation by the GI Health Foundation.  This program is essential given the rapidly evolving treatment/management of IBD and the realization that the number of patients diagnosed and treated remains low. \nAs a participant\, you and a small group of peers will be asked to participate in two (2) CME case study review sessions. This first presentation is worth 1.5 CME credits and is clinical.  This second presentation of the two is worth 1.5 CME credits and involves case studies. \n \n  \nGil Y. Melmed\, MD serves as the Director of Clinical Inflammatory Bowel Disease\, Advanced Inflammatory Bowel Disease Fellowship Program and Clinical Research in the Division of Gastroenterology at Cedars-Sinai. \n \n \nThis dinner will be hosted at The Capital Grille located at 3333 Bristol Street in Costa Mesa.  Registration begins at 6:30 pm and the dinner presentation promptly at 7:00 pm.\n \nNon-members pay $25 at the door. Please consider supporting OCGI and becoming a member by checking out our Membership page.\nTo RSVP\, email Stephani Meyers at smeyers@ocgisociety.com. \n
URL:http://www.ocgisociety.com/event/october-18-2017/
LOCATION:3333 Bristol Street\, Costa Mesa\, CA\, 92626\, United States
ORGANIZER;CN="Stephani%20Meyers":MAILTO:info@ocgisociety.com
END:VEVENT
END:VCALENDAR