BEGIN:VCALENDAR
VERSION:2.0
PRODID:-//Orange County Gastroenterology Society - ECPv4.6.12.1//NONSGML v1.0//EN
CALSCALE:GREGORIAN
METHOD:PUBLISH
X-WR-CALNAME:Orange County Gastroenterology Society
X-ORIGINAL-URL:http://www.ocgisociety.com
X-WR-CALDESC:Events for Orange County Gastroenterology Society
BEGIN:VEVENT
DTSTART;TZID=UTC+0:20231011T183000
DTEND;TZID=UTC+0:20231011T203000
DTSTAMP:20260424T050219
CREATED:20230829T171315Z
LAST-MODIFIED:20230829T171336Z
UID:1170-1697049000-1697056200@www.ocgisociety.com
SUMMARY:October 11th\, 2023 OCGI Monthly Educational Meeting
DESCRIPTION:\n                            \n                                \n                            \n                        \n\n  \nJames A Mckinnell\, MD of Harbor UCLA Health will be presenting on Updates in C. Diff Treatment at this month’s dinner meeting sponsored by Ferring Pharmaceuticals. \n\n\n\n\n \n \n \n\n \n \n\n \n\n \n \n\n \nJames A Mckinnell\, MD\n \nRegistration begins at 6:30 pm and the dinner presentation promptly at 7:00 pm.\n \nNon-members pay $35 at the door. Please consider supporting OCGI and becoming a member by checking out our Membership page.\n\n \n[captainform id=”760631″]\n
URL:http://www.ocgisociety.com/event/october-11th-2023/
LOCATION:3333 Bristol Street\, Costa Mesa\, CA\, 92626\, United States
END:VEVENT
END:VCALENDAR