BEGIN:VCALENDAR
VERSION:2.0
PRODID:-//Orange County Gastroenterology Society - ECPv4.6.12.1//NONSGML v1.0//EN
CALSCALE:GREGORIAN
METHOD:PUBLISH
X-WR-CALNAME:Orange County Gastroenterology Society
X-ORIGINAL-URL:http://www.ocgisociety.com
X-WR-CALDESC:Events for Orange County Gastroenterology Society
BEGIN:VEVENT
DTSTART;TZID=UTC+0:20221011T183000
DTEND;TZID=UTC+0:20221011T203000
DTSTAMP:20260424T113309
CREATED:20220912T043213Z
LAST-MODIFIED:20220921T175911Z
UID:1072-1665513000-1665520200@www.ocgisociety.com
SUMMARY:October 11th\, 2022 OCGI Monthly Educational Meeting
DESCRIPTION:\n                            \n                                \n                            \n                        \n\n\nPhilip Andrew Woodworth\, MD will be presenting on  EsoGuard: A New Office Based DNA Test for Detection of Esophageal Precancer at this month’s dinner meeting sponsored by Lucid Diagnostics. \n\n \n\n\n  \n  \n  \n  \n  \n  \n  \nPhilip Andrew Woodworth\, MD \n\nRegistration begins at 6:30 pm and the dinner presentation promptly at 7:00 pm.\n \nNon-members pay $35 at the door. Please consider supporting OCGI and becoming a member by checking out our Membership page.\n\n \n[captainform id=”760631″]\n
URL:http://www.ocgisociety.com/event/october-11th-2022/
LOCATION:633 Anton Boulevard\, Costa Mesa\, CA\, 92626\, United States
END:VEVENT
END:VCALENDAR