BEGIN:VCALENDAR
VERSION:2.0
PRODID:-//Orange County Gastroenterology Society - ECPv4.6.12.1//NONSGML v1.0//EN
CALSCALE:GREGORIAN
METHOD:PUBLISH
X-WR-CALNAME:Orange County Gastroenterology Society
X-ORIGINAL-URL:http://www.ocgisociety.com
X-WR-CALDESC:Events for Orange County Gastroenterology Society
BEGIN:VEVENT
DTSTART;TZID=UTC+0:20211117T180000
DTEND;TZID=UTC+0:20211117T200000
DTSTAMP:20260424T124008
CREATED:20211111T185426Z
LAST-MODIFIED:20211111T185426Z
UID:1008-1637172000-1637179200@www.ocgisociety.com
SUMMARY:November 17\, 2021 OCGI Monthly Educational Meeting
DESCRIPTION:\n                            \n                                \n                            \n                        Ke-Qin Hu\, MD of UCI Health will be presenting on Management of Chronic Hepatitis B: Treatment Considerations at this month’s dinner meeting sponsored by Gilead Sciences\, INC. \n \n\n \n \n \n\n \n \n \n \n \nKe-Qin Hu\, MD\n\n \nRegistration begins at 6:30 pm and the dinner presentation promptly at 7:00 pm.\n \nNon-members pay $25 at the door. Please consider supporting OCGI and becoming a member by checking out our Membership page.\n\n
URL:http://www.ocgisociety.com/event/november-17-2021/
LOCATION:3300 Bristol Street\, Costa Mesa\, CA\, 92626\, United States
END:VEVENT
END:VCALENDAR