BEGIN:VCALENDAR
VERSION:2.0
PRODID:-//Orange County Gastroenterology Society - ECPv4.6.12.1//NONSGML v1.0//EN
CALSCALE:GREGORIAN
METHOD:PUBLISH
X-WR-CALNAME:Orange County Gastroenterology Society
X-ORIGINAL-URL:http://www.ocgisociety.com
X-WR-CALDESC:Events for Orange County Gastroenterology Society
BEGIN:VEVENT
DTSTART;TZID=UTC+0:20241113T183000
DTEND;TZID=UTC+0:20241113T203000
DTSTAMP:20260424T015300
CREATED:20240830T155324Z
LAST-MODIFIED:20241021T012527Z
UID:1230-1731522600-1731529800@www.ocgisociety.com
SUMMARY:November 13th\, 2024 OCGI Monthly Educational Meeting
DESCRIPTION:\n                            \n                                \n                            \n                        \n\n\nDouglas Nguyen\, MD of Loma Linda University Health will be presenting on Updates in Treatment of Ulcerative Colitis at this month’s dinner meeting sponsored by Janssen Biotech. \n\n\n\n\n \n\nDouglas Nguyen\, MD\n\n\n\nRegistration begins at 6:30 pm and the dinner presentation promptly at 7:00 pm.\n \nNon-members pay $35 at the door. Please consider supporting OCGI and becoming a member by checking out our Membership page.\n\n \n[captainform id=”760631″]\n
URL:http://www.ocgisociety.com/event/november-13th-2024/
LOCATION:19100 Von Karman Avenue\, Irvine\, CA\, 92612\, United States
END:VEVENT
END:VCALENDAR