BEGIN:VCALENDAR
VERSION:2.0
PRODID:-//Orange County Gastroenterology Society - ECPv4.6.12.1//NONSGML v1.0//EN
CALSCALE:GREGORIAN
METHOD:PUBLISH
X-WR-CALNAME:Orange County Gastroenterology Society
X-ORIGINAL-URL:http://www.ocgisociety.com
X-WR-CALDESC:Events for Orange County Gastroenterology Society
BEGIN:VEVENT
DTSTART;TZID=UTC+0:20211111T180000
DTEND;TZID=UTC+0:20211111T200000
DTSTAMP:20260424T124550
CREATED:20211111T185037Z
LAST-MODIFIED:20211111T185037Z
UID:1004-1636653600-1636660800@www.ocgisociety.com
SUMMARY:November 11\, 2021 OCGI Monthly Educational Meeting
DESCRIPTION:\n                            \n                                \n                            \n                        Caroline Hwang\, MD of Hoag will be presenting on A Treatment Option for Moderately to Severe UC in Adults at this month’s dinner meeting sponsored by Bristol Myers Squibb. \n \n\n \n \n \n \n \n \n \n \n \n \n \n \nCaroline Hwang\, MD\n \nRegistration begins at 6:30 pm and the dinner presentation promptly at 7:00 pm.\n \nNon-members pay $25 at the door. Please consider supporting OCGI and becoming a member by checking out our Membership page.\n\n
URL:http://www.ocgisociety.com/event/november-11-2021/
LOCATION:633 Anton Boulevard\, Costa Mesa\, CA\, 92626\, United States
END:VEVENT
END:VCALENDAR