BEGIN:VCALENDAR
VERSION:2.0
PRODID:-//Orange County Gastroenterology Society - ECPv4.6.12.1//NONSGML v1.0//EN
CALSCALE:GREGORIAN
METHOD:PUBLISH
X-WR-CALNAME:Orange County Gastroenterology Society
X-ORIGINAL-URL:http://www.ocgisociety.com
X-WR-CALDESC:Events for Orange County Gastroenterology Society
BEGIN:VEVENT
DTSTART;TZID=UTC+0:20210505T183000
DTEND;TZID=UTC+0:20210505T203000
DTSTAMP:20260424T155529
CREATED:20210330T042350Z
LAST-MODIFIED:20210421T134427Z
UID:953-1620239400-1620246600@www.ocgisociety.com
SUMMARY:May 5\, 2021 OCGI Monthly Educational Meeting
DESCRIPTION:\n                            \n                                \n                            \n                        Sammy Saab\, MD of Ronald Reagan UCLA Medical Center will be presenting a CME presentation on HCV Elimination in PWIDs and the Incarcerated at this month’s dinner sponsored by Practice Point Communications. \n\n \nSammy Saab\, MD \nRegistration begins at 6:30 pm and the dinner presentation promptly at 7:00 pm.\n \nNon-members pay $25 at the door. Please consider supporting OCGI and becoming a member by checking out our Membership page.\n \n\n[captainform id=”760631″]\n
URL:http://www.ocgisociety.com/event/may-5-2021/
LOCATION:3333 Bristol Street\, Costa Mesa\, CA\, 92626\, United States
END:VEVENT
END:VCALENDAR