BEGIN:VCALENDAR
VERSION:2.0
PRODID:-//Orange County Gastroenterology Society - ECPv4.6.12.1//NONSGML v1.0//EN
CALSCALE:GREGORIAN
METHOD:PUBLISH
X-WR-CALNAME:Orange County Gastroenterology Society
X-ORIGINAL-URL:http://www.ocgisociety.com
X-WR-CALDESC:Events for Orange County Gastroenterology Society
BEGIN:VEVENT
DTSTART;TZID=UTC+0:20240529T183000
DTEND;TZID=UTC+0:20240529T203000
DTSTAMP:20260424T032909
CREATED:20240203T021016Z
LAST-MODIFIED:20240427T015246Z
UID:1197-1717007400-1717014600@www.ocgisociety.com
SUMMARY:May 29th\, 2024 OCGI Monthly Educational Meeting
DESCRIPTION:\n                            \n                                \n                            \n                        \n\n\nAlaa Abousaif\, MD will be presenting on The Role of TissueCypher in the Clinical Management of Barrett’s Esophagus at this month’s dinner meeting sponsored by Castle Biosciences.  \n \n\n\n\n\n \n \n \n \n \n \n \nRegistration begins at 6:30 pm and the dinner presentation promptly at 7:00 pm.\n \nNon-members pay $35 at the door. Please consider supporting OCGI and becoming a member by checking out our Membership page.\n\n \n[captainform id=”760631″]\n
URL:http://www.ocgisociety.com/event/may-29th-2024/
LOCATION:633 Anton Boulevard\, Costa Mesa\, CA\, 92626\, United States
END:VEVENT
END:VCALENDAR