BEGIN:VCALENDAR
VERSION:2.0
PRODID:-//Orange County Gastroenterology Society - ECPv4.6.12.1//NONSGML v1.0//EN
CALSCALE:GREGORIAN
METHOD:PUBLISH
X-WR-CALNAME:Orange County Gastroenterology Society
X-ORIGINAL-URL:http://www.ocgisociety.com
X-WR-CALDESC:Events for Orange County Gastroenterology Society
BEGIN:VEVENT
DTSTART;TZID=UTC+0:20220518T183000
DTEND;TZID=UTC+0:20220518T203000
DTSTAMP:20260424T111627
CREATED:20220504T220024Z
LAST-MODIFIED:20220504T220254Z
UID:1040-1652898600-1652905800@www.ocgisociety.com
SUMMARY:May 18th\, 2022 OCGI Monthly Educational Meeting
DESCRIPTION:\n                            \n                                \n                            \n                        \nCarl Albers\, MD affiliated with the University of California\, Irvine will be presenting on Recognizing and Treating Iron Deficiency Anemia (IDA) in Gastroenterology Patients at this month’s dinner meeting sponsored by Daiichi-Sankyo.  \n\n \n\n \n \n \n \n \n \n \n \n \nCarl Albers\, MD\n \n\nRegistration begins at 6:30 pm and the dinner presentation promptly at 7:00 pm.\n \nNon-members pay $35 at the door. Please consider supporting OCGI and becoming a member by checking out our Membership page.\n\n \n[captainform id=”760631″]\n
URL:http://www.ocgisociety.com/event/may-18th-2022/
LOCATION:633 Anton Boulevard\, Costa Mesa\, CA\, 92626\, United States
END:VEVENT
END:VCALENDAR