BEGIN:VCALENDAR
VERSION:2.0
PRODID:-//Orange County Gastroenterology Society - ECPv4.6.12.1//NONSGML v1.0//EN
CALSCALE:GREGORIAN
METHOD:PUBLISH
X-WR-CALNAME:Orange County Gastroenterology Society
X-ORIGINAL-URL:http://www.ocgisociety.com
X-WR-CALDESC:Events for Orange County Gastroenterology Society
BEGIN:VEVENT
DTSTART;TZID=UTC+0:20200318T183000
DTEND;TZID=UTC+0:20200318T203000
DTSTAMP:20260424T164759
CREATED:20200126T013455Z
LAST-MODIFIED:20200308T031342Z
UID:910-1584556200-1584563400@www.ocgisociety.com
SUMMARY:March 18\, 2020 OCGI Monthly Educational Dinner Meeting
DESCRIPTION:\n                            \n                                \n                            \n                        \n\nDonald Abrahm\, MD of Hoag Hospital will be presenting on Stelara for Ulcerative Colitis at this month’s dinner sponsored by Janssen Biotech. \n\n \n  \n  \n  \n  \n  \n  \nDonald Abrahm\, MD \n\n\nRegistration begins at 6:30 pm and the dinner presentation promptly at 7:00 pm.\n \nNon-members pay $25 at the door. Please consider supporting OCGI and becoming a member by checking out our Membership page.\n[captainform id=”760631″]\n\n
URL:http://www.ocgisociety.com/event/march-18-2020/
LOCATION:19530 Jamboree Rd\, Irvine\, CA\, 92612\, United States
END:VEVENT
END:VCALENDAR