BEGIN:VCALENDAR
VERSION:2.0
PRODID:-//Orange County Gastroenterology Society - ECPv4.6.12.1//NONSGML v1.0//EN
CALSCALE:GREGORIAN
METHOD:PUBLISH
X-WR-CALNAME:Orange County Gastroenterology Society
X-ORIGINAL-URL:http://www.ocgisociety.com
X-WR-CALDESC:Events for Orange County Gastroenterology Society
BEGIN:VEVENT
DTSTART;TZID=UTC+0:20210630T183000
DTEND;TZID=UTC+0:20210630T203000
DTSTAMP:20260424T145728
CREATED:20210605T003631Z
LAST-MODIFIED:20210611T040637Z
UID:966-1625077800-1625085000@www.ocgisociety.com
SUMMARY:June 30\, 2021 OCGI Monthly Educational Meeting
DESCRIPTION:\n                            \n                                \n                            \n                        Fady Kaldas\, MD of Ronald Reagan UCLA Medical Center will be presenting on Advances in Liver Transplantation at this month’s dinner meeting sponsored by UCLA Health. \nFady Kaldas\, MD\n  \n  \n\n \n \n \n\n \n\n \n \n \nRegistration begins at 6:30 pm and the dinner presentation promptly at 7:00 pm.\n \nNon-members pay $25 at the door. Please consider supporting OCGI and becoming a member by checking out our Membership page.\n \n\n[captainform id=”760631″]\n
URL:http://www.ocgisociety.com/event/june-30-2021/
LOCATION:19100 Von Karman Avenue\, Irvine\, CA\, 92612\, United States
END:VEVENT
END:VCALENDAR