BEGIN:VCALENDAR
VERSION:2.0
PRODID:-//Orange County Gastroenterology Society - ECPv4.6.12.1//NONSGML v1.0//EN
CALSCALE:GREGORIAN
METHOD:PUBLISH
X-WR-CALNAME:Orange County Gastroenterology Society
X-ORIGINAL-URL:http://www.ocgisociety.com
X-WR-CALDESC:Events for Orange County Gastroenterology Society
BEGIN:VEVENT
DTSTART;TZID=UTC+0:20230726T183000
DTEND;TZID=UTC+0:20230726T203000
DTSTAMP:20260424T074506
CREATED:20230316T195500Z
LAST-MODIFIED:20230712T132047Z
UID:1126-1690396200-1690403400@www.ocgisociety.com
SUMMARY:July 26th\, 2023 OCGI Monthly Educational Meeting
DESCRIPTION:\n                            \n                                \n                            \n                        \n\nDouglas Nguyen\, MD of Loma Linda University Health will be presenting on ZEPOSIA: for Moderately to Severely Active Ulcerative Colitis at this month’s dinner meeting sponsored by Bristol Myers Squibb. \n\n\nGuest Speaker\, Douglas L. Nguyen\, MD\n\n \n \n \n \n \n \n \n \n \n\n \n \nRegistration begins at 6:30 pm and the dinner presentation promptly at 7:00 pm.\n\n \nNon-members pay $35 at the door. Please consider supporting OCGI and becoming a member by checking out our Membership page.\n\n \n[captainform id=”760631″]\n
URL:http://www.ocgisociety.com/event/july-26th-2023/
LOCATION:3300 Bristol Street\, Costa Mesa\, CA\, 92626\, United States
END:VEVENT
END:VCALENDAR