BEGIN:VCALENDAR
VERSION:2.0
PRODID:-//Orange County Gastroenterology Society - ECPv4.6.12.1//NONSGML v1.0//EN
CALSCALE:GREGORIAN
METHOD:PUBLISH
X-WR-CALNAME:Orange County Gastroenterology Society
X-ORIGINAL-URL:http://www.ocgisociety.com
X-WR-CALDESC:Events for Orange County Gastroenterology Society
BEGIN:VEVENT
DTSTART;TZID=UTC+0:20190724T183000
DTEND;TZID=UTC+0:20190724T210000
DTSTAMP:20260424T194846
CREATED:20190430T021517Z
LAST-MODIFIED:20190715T045558Z
UID:844-1563993000-1564002000@www.ocgisociety.com
SUMMARY:July 24\, 2019 OCGI Monthly Educational Dinner Meeting
DESCRIPTION:\n                            \n                                \n                            \n                        Sammy Saab\, MD of UCLA Medical Center will be presenting on Evaluating and Treating Hepatitis C at this month’s dinner sponsored by AbbVie Pharmaceuticals. \n \nSammy Saab\, MD \nRegistration begins at 6:30 pm and the dinner presentation promptly at 7:00 pm.\n \nNon-members pay $25 at the door. Please consider supporting OCGI and becoming a member by checking out our Membership page.\n \n[captainform id=”760631″]\n
URL:http://www.ocgisociety.com/event/july-24-2019/
LOCATION:3333 Bristol Street\, Costa Mesa\, CA\, 92626\, United States
END:VEVENT
END:VCALENDAR