BEGIN:VCALENDAR
VERSION:2.0
PRODID:-//Orange County Gastroenterology Society - ECPv4.6.12.1//NONSGML v1.0//EN
CALSCALE:GREGORIAN
METHOD:PUBLISH
X-WR-CALNAME:Orange County Gastroenterology Society
X-ORIGINAL-URL:http://www.ocgisociety.com
X-WR-CALDESC:Events for Orange County Gastroenterology Society
BEGIN:VEVENT
DTSTART;TZID=UTC+0:20250723T183000
DTEND;TZID=UTC+0:20250723T203000
DTSTAMP:20260423T234648
CREATED:20250506T172759Z
LAST-MODIFIED:20250629T024600Z
UID:1295-1753295400-1753302600@www.ocgisociety.com
SUMMARY:July 23rd\, 2025 OCGI Monthly Educational Meeting
DESCRIPTION:\n                            \n                                \n                            \n                        \n\n\n\nZeljka Jutric\, MD of UC Irvine Health will be presenting on Exocrine Pancreatic Insufficiency at this month’s dinner meeting sponsored by UCI Health. \n\n\n\n\n \n\nZeljka Jutric\, MD\n\n\n \nRegistration begins at 6:30 pm and the dinner presentation promptly at 7:00 pm.\n \nNon-members pay $35 at the door. Please consider supporting OCGI and becoming a member by checking out our Membership page.\n\n \n[captainform id=”760631″]\n
URL:http://www.ocgisociety.com/event/july-23rd-2025/
LOCATION:3333 Bristol St\, Costa Mesa\, CA\, 92626\, United States
END:VEVENT
END:VCALENDAR