BEGIN:VCALENDAR
VERSION:2.0
PRODID:-//Orange County Gastroenterology Society - ECPv4.6.12.1//NONSGML v1.0//EN
CALSCALE:GREGORIAN
METHOD:PUBLISH
X-WR-CALNAME:Orange County Gastroenterology Society
X-ORIGINAL-URL:http://www.ocgisociety.com
X-WR-CALDESC:Events for Orange County Gastroenterology Society
BEGIN:VEVENT
DTSTART;TZID=UTC+0:20210721T183000
DTEND;TZID=UTC+0:20210721T203000
DTSTAMP:20260424T145628
CREATED:20210605T005733Z
LAST-MODIFIED:20210713T032316Z
UID:969-1626892200-1626899400@www.ocgisociety.com
SUMMARY:July 21\, 2021 OCGI Monthly Educational Meeting
DESCRIPTION:\n                            \n                                \n                            \n                        Doug Nguyen\, MD of Loma Linda University Medical Center will be presenting on Considering Case Studies to Inform Treatment Decisions for Patients with Ulcerative Colitis at this month’s dinner meeting sponsored by AbbVie\, Inc. \nGuest Speaker\, Douglas L. Nguyen\, MD\n  \n\n \n \n \n \n \n \n \n \n \nRegistration begins at 6:30 pm and the dinner presentation promptly at 7:00 pm.\n \nNon-members pay $25 at the door. Please consider supporting OCGI and becoming a member by checking out our Membership page.\n\n \n[captainform id=”760631″]\n
URL:http://www.ocgisociety.com/event/july-21-2021/
LOCATION:3333 Bristol Street\, Costa Mesa\, CA\, 92626\, United States
END:VEVENT
END:VCALENDAR