BEGIN:VCALENDAR
VERSION:2.0
PRODID:-//Orange County Gastroenterology Society - ECPv4.6.12.1//NONSGML v1.0//EN
CALSCALE:GREGORIAN
METHOD:PUBLISH
X-WR-CALNAME:Orange County Gastroenterology Society
X-ORIGINAL-URL:http://www.ocgisociety.com
X-WR-CALDESC:Events for Orange County Gastroenterology Society
BEGIN:VEVENT
DTSTART;TZID=UTC+0:20220720T183000
DTEND;TZID=UTC+0:20220720T203000
DTSTAMP:20260424T112110
CREATED:20220702T054700Z
LAST-MODIFIED:20220702T231745Z
UID:1046-1658341800-1658349000@www.ocgisociety.com
SUMMARY:July 20th\, 2022 OCGI Monthly Educational Meeting
DESCRIPTION:\n                            \n                                \n                            \n                        \nKe-Qin Hu\, MD affiliated with the University of California\, Irvine will be presenting on How Low Should You Go In PBC at this month’s dinner meeting sponsored by Intercept Pharmaceuticals.  \n\n \n\n \n \n \n \n \n \n \n \nKe-Qin Hu\, MD\n \n\nRegistration begins at 6:30 pm and the dinner presentation promptly at 7:00 pm.\n \nNon-members pay $35 at the door. Please consider supporting OCGI and becoming a member by checking out our Membership page.\n\n \n[captainform id=”760631″]\n
URL:http://www.ocgisociety.com/event/july-20th-2022/
LOCATION:3333 Bristol Street\, Costa Mesa\, CA\, 92626\, United States
END:VEVENT
END:VCALENDAR