BEGIN:VCALENDAR
VERSION:2.0
PRODID:-//Orange County Gastroenterology Society - ECPv4.6.12.1//NONSGML v1.0//EN
CALSCALE:GREGORIAN
METHOD:PUBLISH
X-WR-CALNAME:Orange County Gastroenterology Society
X-ORIGINAL-URL:http://www.ocgisociety.com
X-WR-CALDESC:Events for Orange County Gastroenterology Society
BEGIN:VEVENT
DTSTART;TZID=UTC+0:20180118T183000
DTEND;TZID=UTC+0:20180118T210000
DTSTAMP:20260425T021606
CREATED:20180319T004649Z
LAST-MODIFIED:20180319T004826Z
UID:725-1516300200-1516309200@www.ocgisociety.com
SUMMARY:January 18\, 2018 OCGI Dinner Meeting
DESCRIPTION:\n                            \n                                \n                            \n                        January’s OCGI Monthly Education Dinner is sponsored by Intercept Pharmaceuticals at Antonello Ristorante located at 3800 South Plaza Drive\, Santa Ana\, CA 92704.   Ke-Qin Hu\, MD\, FAASLD of UC Irvine Health will be speaking on Expanding Options for your Patients with OCALIVA. \n \nNon-members pay $25 at the door. Please consider supporting OCGI and joining us. \n
URL:http://www.ocgisociety.com/event/january-18-2018-ocgi-dinner-meeting/
LOCATION:3800 South Plaza Drive\, Santa Ana\, CA\, 92704\, United States
END:VEVENT
END:VCALENDAR