BEGIN:VCALENDAR
VERSION:2.0
PRODID:-//Orange County Gastroenterology Society - ECPv4.6.12.1//NONSGML v1.0//EN
CALSCALE:GREGORIAN
METHOD:PUBLISH
X-WR-CALNAME:Orange County Gastroenterology Society
X-ORIGINAL-URL:http://www.ocgisociety.com
X-WR-CALDESC:Events for Orange County Gastroenterology Society
BEGIN:VEVENT
DTSTART;TZID=UTC+0:20190220T183000
DTEND;TZID=UTC+0:20190220T210000
DTSTAMP:20260424T020516
CREATED:20190207T035835Z
LAST-MODIFIED:20190214T022353Z
UID:820-1550687400-1550696400@www.ocgisociety.com
SUMMARY:February 20\, 2019 OCGI Monthly Educational Dinner Meeting
DESCRIPTION:\n                            \n                                \n                            \n                        OCGI’s February 20\, 2019 monthly education dinner program is sponsored by Simply Speaking Hepatitis.  This CME/CE qualifying activity will be addressing HCV Elimination in PWIDs and the Incarcerated. Our special guest educator\, Steven-Huy Han\, MD\, is a Professor of Medicine and Surgery UCLA Medical Center. \nSteven Huy-Han\, MD\n \nRegistration begins at 6:30 pm and the dinner presentation promptly at 7:00 pm.\n \nNon-members pay $25 at the door. Please consider supporting OCGI and becoming a member by checking out our Membership page.\n \n[captainform id=”760631″]\n
URL:http://www.ocgisociety.com/event/february-20-2019/
LOCATION:3333 Bristol Street\, Costa Mesa\, CA\, 92626\, United States
CATEGORIES:OCGI Monthly Educational Dinner Meeting
END:VEVENT
END:VCALENDAR