BEGIN:VCALENDAR
VERSION:2.0
PRODID:-//Orange County Gastroenterology Society - ECPv4.6.12.1//NONSGML v1.0//EN
CALSCALE:GREGORIAN
METHOD:PUBLISH
X-WR-CALNAME:Orange County Gastroenterology Society
X-ORIGINAL-URL:http://www.ocgisociety.com
X-WR-CALDESC:Events for Orange County Gastroenterology Society
BEGIN:VEVENT
DTSTART;TZID=UTC+0:20170215T183000
DTEND;TZID=UTC+0:20170215T210000
DTSTAMP:20260423T230053
CREATED:20170105T184152Z
LAST-MODIFIED:20170419T161110Z
UID:216-1487183400-1487192400@www.ocgisociety.com
SUMMARY:February 15\, 2017 OCGI Monthly Educational Dinner
DESCRIPTION:\n                            \n                                \n                            \n                        CRH Medical Products is sponsoring OCGI’s February 15\, 2017 Monthly Education Dinner at Antonello Ristorante located near South Coast Plaza. \nMitchel Guttenplan\, MD\, FACS will be addressing “The Non-Surgical Treatment of Hemorrhoids and Fissures”. \nDr. Mitchel Guttenplan joined CRH in 2006 as the Co-Medical Director of the Centers for Colorectal Health in Metropolitan Atlanta\, and became the Medical Director for CRH in 2008. He graduated from the Emory University School of Medicine and completed his residence in General Surgery at the Emory University Affiliated Hospitals\, and he has been practicing general surgery in metropolitan Atlanta since 1987. As CRH’s Medical Director\, he has trained hundreds of surgeons and gastroenterologists in the use of the CRH O’Regan System\, and has also been a guest lecturer at numerous medical schools\, hospitals and GI societies\, as well as regional and national scientific meetings. \nNon-members pay $25 at the door. Please consider supporting OCGI and joining us. \n  \n
URL:http://www.ocgisociety.com/event/february-15-2017-ocgi-monthly-educational-dinner/
LOCATION:3800 South Plaza Drive\, Santa Ana\, CA\, 92704\, United States
ORGANIZER;CN="Stephani%20Meyers":MAILTO:info@ocgisociety.com
END:VEVENT
END:VCALENDAR