BEGIN:VCALENDAR
VERSION:2.0
PRODID:-//Orange County Gastroenterology Society - ECPv4.6.12.1//NONSGML v1.0//EN
CALSCALE:GREGORIAN
METHOD:PUBLISH
X-WR-CALNAME:Orange County Gastroenterology Society
X-ORIGINAL-URL:http://www.ocgisociety.com
X-WR-CALDESC:Events for Orange County Gastroenterology Society
BEGIN:VEVENT
DTSTART;TZID=UTC+0:20231206T183000
DTEND;TZID=UTC+0:20231206T203000
DTSTAMP:20260424T051241
CREATED:20230822T180012Z
LAST-MODIFIED:20231029T145918Z
UID:1167-1701887400-1701894600@www.ocgisociety.com
SUMMARY:December 6th\, 2023 OCGI Monthly Educational Meeting
DESCRIPTION:\n                            \n                                \n                            \n                        \n\n\n  \nDouglas Nguyen\, MD of Loma Linda University Health will be presenting on Updates in Treatment of Ulcerative Colitis at this month’s dinner meeting sponsored by Janssen Biotech. \n\n\n\n\n \n\nDouglas Nguyen\, MD\n\n\n\nRegistration begins at 6:30 pm and the dinner presentation promptly at 7:00 pm.\n \nNon-members pay $35 at the door. Please consider supporting OCGI and becoming a member by checking out our Membership page.\n\n \n[captainform id=”760631″]\n
URL:http://www.ocgisociety.com/event/december-6th-2023/
LOCATION:1641 West Sunflower Avenue\, Santa Ana\, CA\, 92704\, United States
END:VEVENT
END:VCALENDAR