BEGIN:VCALENDAR
VERSION:2.0
PRODID:-//Orange County Gastroenterology Society - ECPv4.6.12.1//NONSGML v1.0//EN
CALSCALE:GREGORIAN
METHOD:PUBLISH
X-WR-CALNAME:Orange County Gastroenterology Society
X-ORIGINAL-URL:http://www.ocgisociety.com
X-WR-CALDESC:Events for Orange County Gastroenterology Society
BEGIN:VEVENT
DTSTART;TZID=UTC+0:20171220T183000
DTEND;TZID=UTC+0:20171220T210000
DTSTAMP:20260425T015448
CREATED:20170113T200249Z
LAST-MODIFIED:20171120T030300Z
UID:276-1513794600-1513803600@www.ocgisociety.com
SUMMARY:December 20\, 2017 OCGI Monthly Educational Dinner Program
DESCRIPTION:\n                            \n                                \n                            \n                        December’s OCGI Monthly Education Dinner will take place at D’Vine in Fullerton\, California.   Kenneth Chang\, MD of UC Irvine Health will be speaking on Endoscopic Foregut Surgery:  The Future is Now! \n  \nKenneth Chang\, MD\nThe twelfth (12th) OCGI member to sign in to the evening’s program will win this month’s $100 gift certificate to Medelita. \nNon-members pay $25 at the door. Please consider supporting OCGI and joining us. \n[captainform id=”760631″] \n
URL:http://www.ocgisociety.com/event/december-20-2017/
LOCATION:132 West Commonwealth Avenue\, Fullerton\, CA\, 92832\, United States
ORGANIZER;CN="Stephani%20Meyers":MAILTO:info@ocgisociety.com
END:VEVENT
END:VCALENDAR