BEGIN:VCALENDAR
VERSION:2.0
PRODID:-//Orange County Gastroenterology Society - ECPv4.6.12.1//NONSGML v1.0//EN
CALSCALE:GREGORIAN
METHOD:PUBLISH
X-WR-CALNAME:Orange County Gastroenterology Society
X-ORIGINAL-URL:http://www.ocgisociety.com
X-WR-CALDESC:Events for Orange County Gastroenterology Society
BEGIN:VEVENT
DTSTART;TZID=UTC+0:20211215T183000
DTEND;TZID=UTC+0:20211215T193000
DTSTAMP:20260424T131323
CREATED:20211208T170926Z
LAST-MODIFIED:20211208T194817Z
UID:1012-1639593000-1639596600@www.ocgisociety.com
SUMMARY:December 15\, 2021 OCGI Monthly Educational Virtual CME Meeting
DESCRIPTION:\n                            \n                                \n                            \n                        Steven Flamm\, MD of Feinberg School of Medicine of Northwestern Medicine will be giving a CME presentation on Expert Insights: Improving Outcomes in Patients with Chronic Liver Disease at this month’s virtual meeting sponsored by Focus Medical Communications. \nSteven L. Flamm\, MD\n\n \n \n \n\n \n \n \n \n \n \n \n \n \n \n \n \n\nSession link:\n\nhttps://us06web.zoom.us/j/83973536630?pwd=TDVSQ0RuMFdGaFdtTDNOemtTZ3J1QT09 \nMeeting ID: 839 7353 6630 \nPasscode: 706466 \nOne tap mobile \n+13126266799\,\,83973536630#\,\,\,\,*706466# US (Chicago) \n+19292056099\,\,83973536630#\,\,\,\,*706466# US (New York) \nDial by your location \n        +1 312 626 6799 US (Chicago) \n        +1 929 205 6099 US (New York) \n        +1 301 715 8592 US (Washington DC) \n        +1 346 248 7799 US (Houston) \n        +1 669 900 6833 US (San Jose) \n        +1 253 215 8782 US (Tacoma) \nMeeting ID: 839 7353 6630 \nPasscode: 706466 \n[captainform id=”760631″] \n\n\n
URL:http://www.ocgisociety.com/event/december-15-2021/
END:VEVENT
END:VCALENDAR