BEGIN:VCALENDAR
VERSION:2.0
PRODID:-//Orange County Gastroenterology Society - ECPv4.6.12.1//NONSGML v1.0//EN
CALSCALE:GREGORIAN
METHOD:PUBLISH
X-WR-CALNAME:Orange County Gastroenterology Society
X-ORIGINAL-URL:http://www.ocgisociety.com
X-WR-CALDESC:Events for Orange County Gastroenterology Society
BEGIN:VEVENT
DTSTART;TZID=UTC+0:20251210T183000
DTEND;TZID=UTC+0:20251210T203000
DTSTAMP:20260423T220744
CREATED:20250812T030326Z
LAST-MODIFIED:20251129T063206Z
UID:1323-1765391400-1765398600@www.ocgisociety.com
SUMMARY:December 10th\, 2025 OCGI Monthly Educational Meeting
DESCRIPTION:\n                            \n                                \n                            \n                        \n\nRashmi Kumar\, MD of Hoag Health will be presenting on Updates in Treatment in Crohn’s and Ulcerative Colitis at this month’s dinner meeting sponsored by Johnson and Johnson. \n\n\n\n\n \n \n \n\n \n \n\n \n \n\n \n\nRashmi Kumar\, MD\n \nRegistration begins at 6:30 pm and the dinner presentation promptly at 7:00 pm.\n \nNon-members pay $35 at the door. Please consider supporting OCGI and becoming a member by checking out our Membership page.\n\n \n\nOCGI Dinner Registration Form:\n\n				#wpforms-1339 {\n				--wpforms-container-padding: 0px;\n--wpforms-container-border-width: 1px;\n--wpforms-container-border-radius: 3px;\n--wpforms-background-color: rgba(0\, 0\, 0\, 0);\n--wpforms-field-size-input-height: 43px;\n--wpforms-field-size-input-spacing: 15px;\n--wpforms-field-size-font-size: 16px;\n--wpforms-field-size-line-height: 19px;\n--wpforms-field-size-padding-h: 14px;\n--wpforms-field-size-checkbox-size: 16px;\n--wpforms-field-size-sublabel-spacing: 5px;\n--wpforms-field-size-icon-size: 1;\n--wpforms-label-size-font-size: 16px;\n--wpforms-label-size-line-height: 19px;\n--wpforms-label-size-sublabel-font-size: 14px;\n--wpforms-label-size-sublabel-line-height: 17px;\n--wpforms-button-size-font-size: 17px;\n--wpforms-button-size-height: 41px;\n--wpforms-button-size-padding-h: 15px;\n--wpforms-button-size-margin-top: 10px;\n--wpforms-container-shadow-size-box-shadow: none;\n			}\n			Please enable JavaScript in your browser to complete this form.Please enable JavaScript in your browser to complete this form.Name *FirstLastTitle *Email *OCGI Member *--- Select Choice ---YesNo		\n			Member RSVP'ing Restrictions\n			\n		\n		Dietary RestrictionsAre you RSVP'ing just for yourself? *--- Select Choice ---YesNoGuest Name\n				( function() {\n					const style = document.createElement( 'style' );\n					style.appendChild( document.createTextNode( '#wpforms-1339-field_4-container { position: absolute !important; overflow: hidden !important; display: inline !important; height: 1px !important; width: 1px !important; z-index: -1000 !important; padding: 0 !important; } #wpforms-1339-field_4-container input { visibility: hidden; } #wpforms-conversational-form-page #wpforms-1339-field_4-container label { counter-increment: none; }' ) );\n					document.head.appendChild( style );\n					document.currentScript?.remove();\n				} )();\n			Submit  \n\n
URL:http://www.ocgisociety.com/event/december-10th-2025/
LOCATION:1641 West Sunflower Avenue\, Santa Ana\, CA\, 92704\, United States
END:VEVENT
END:VCALENDAR