BEGIN:VCALENDAR
VERSION:2.0
PRODID:-//Orange County Gastroenterology Society - ECPv4.6.12.1//NONSGML v1.0//EN
CALSCALE:GREGORIAN
METHOD:PUBLISH
X-WR-CALNAME:Orange County Gastroenterology Society
X-ORIGINAL-URL:http://www.ocgisociety.com
X-WR-CALDESC:Events for Orange County Gastroenterology Society
BEGIN:VEVENT
DTSTART;TZID=UTC+0:20180822T183000
DTEND;TZID=UTC+0:20180822T210000
DTSTAMP:20260424T231605
CREATED:20180809T035642Z
LAST-MODIFIED:20180817T032341Z
UID:758-1534962600-1534971600@www.ocgisociety.com
SUMMARY:August 22\, 2018 OCGI Educational Dinner Program
DESCRIPTION:\n                            \n                                \n                            \n                        OCGI’s August 22\, 2018 Monthly Educational Dinner is sponsored by UCLA Health.   Fady M. Kaldas\, MD of UCLA Health will be speaking on Surgical Management of Liver Disease. \nFady M. Kaldas\, MD\nFady M. Kaldas\, MD\, is an Associate Professor of Surgery at The Dumont- UCLA Transplant Center\, David Geffen School of Medicine at UCLA. He is the Medical Director of the Liver Transplant Service\, and the Associate Director of the Abdominal Transplant and Hepatobiliary Fellowship Program at UCLA. His clinical areas of interest include adult and pediatric liver transplantation and hepatobiliary surgery\, hepatocellular carcinoma\, living related liver transplantation\, transplant immunosuppression\, and hepatitis C. \nNon-members pay $25 at the door. Please consider supporting OCGI and joining us. \n[captainform id=”760631″] \n
URL:http://www.ocgisociety.com/event/august-22-2018/
LOCATION:3800 South Plaza Drive\, Santa Ana\, CA\, 92704\, United States
END:VEVENT
END:VCALENDAR