BEGIN:VCALENDAR
VERSION:2.0
PRODID:-//Orange County Gastroenterology Society - ECPv4.6.12.1//NONSGML v1.0//EN
CALSCALE:GREGORIAN
METHOD:PUBLISH
X-WR-CALNAME:Orange County Gastroenterology Society
X-ORIGINAL-URL:http://www.ocgisociety.com
X-WR-CALDESC:Events for Orange County Gastroenterology Society
BEGIN:VEVENT
DTSTART;TZID=UTC+0:20210818T183000
DTEND;TZID=UTC+0:20210818T203000
DTSTAMP:20260424T154735
CREATED:20210611T042821Z
LAST-MODIFIED:20210727T211550Z
UID:978-1629311400-1629318600@www.ocgisociety.com
SUMMARY:August 18\, 2021 OCGI Monthly Educational Meeting
DESCRIPTION:\n                            \n                                \n                            \n                        Catherine Frenette\, MD of Scripps Memorial Hospital will be presenting on Management of Overt Hepatic Encephalopathy in an Expanding Population of Patients with Cirrhosis Considerations for a COVID-19 Environment at this month’s dinner meeting sponsored by Salix Pharmaceuticals. \nCatherine Frenette\, MD\n  \n  \n\n \n \n \n\n \n\n \n\n \n \n \n\nRegistration begins at 6:30 pm and the dinner presentation promptly at 7:00 pm.\n \nNon-members pay $35 at the door. Please consider supporting OCGI and becoming a member by checking out our Membership page.\n\n \n[captainform id=”760631″]\n
URL:http://www.ocgisociety.com/event/august-18-2021/
LOCATION:3300 Bristol Street\, Costa Mesa\, CA\, 92626\, United States
END:VEVENT
END:VCALENDAR