BEGIN:VCALENDAR
VERSION:2.0
PRODID:-//Orange County Gastroenterology Society - ECPv4.6.12.1//NONSGML v1.0//EN
CALSCALE:GREGORIAN
METHOD:PUBLISH
X-WR-CALNAME:Orange County Gastroenterology Society
X-ORIGINAL-URL:http://www.ocgisociety.com
X-WR-CALDESC:Events for Orange County Gastroenterology Society
BEGIN:VEVENT
DTSTART;TZID=UTC+0:20230816T183000
DTEND;TZID=UTC+0:20230816T203000
DTSTAMP:20260424T074628
CREATED:20230622T135336Z
LAST-MODIFIED:20230712T235521Z
UID:1143-1692210600-1692217800@www.ocgisociety.com
SUMMARY:August 16th\, 2023 OCGI Monthly Educational Meeting
DESCRIPTION:\n                            \n                                \n                            \n                        This month’s dinner meeting is sponsored by Exact Sciences\, and will be a group led discussion titled\, “A Conversation with Exact Sciences.” Please bring your thoughts\, ideas\, and questions!\n\n \nRegistration begins at 6:30 pm and the dinner presentation promptly at 7:00 pm.\n \nNon-members pay $35 at the door. Please consider supporting OCGI and becoming a member by checking out our Membership page.\n\n \n[captainform id=”760631″]\n
URL:http://www.ocgisociety.com/event/august-16th-2023/
LOCATION:633 Anton Boulevard\, Costa Mesa\, CA\, 92626\, United States
END:VEVENT
END:VCALENDAR