BEGIN:VCALENDAR
VERSION:2.0
PRODID:-//Orange County Gastroenterology Society - ECPv4.6.12.1//NONSGML v1.0//EN
CALSCALE:GREGORIAN
METHOD:PUBLISH
X-WR-CALNAME:Orange County Gastroenterology Society
X-ORIGINAL-URL:http://www.ocgisociety.com
X-WR-CALDESC:Events for Orange County Gastroenterology Society
BEGIN:VEVENT
DTSTART;TZID=UTC+0:20200409T183000
DTEND;TZID=UTC+0:20200409T203000
DTSTAMP:20260424T171136
CREATED:20200216T014943Z
LAST-MODIFIED:20200216T014943Z
UID:929-1586457000-1586464200@www.ocgisociety.com
SUMMARY:April 9\, 2020 OCGI Monthly Educational Dinner Meeting
DESCRIPTION:\n                            \n                                \n                            \n                        \nMichael Volk\, MD of Loma Linda University Medical Center will be presenting a CME talk on Managing Complications of Cirrhosis at this month’s dinner sponsored by Loma Linda University and Health Liver Transplant. \n\n \n  \n  \n  \n  \n  \nMichael Volk\, MD \n\n\nRegistration begins at 6:30 pm and the dinner presentation promptly at 7:00 pm.\n \nNon-members pay $25 at the door. Please consider supporting OCGI and becoming a member by checking out our Membership page.\n
URL:http://www.ocgisociety.com/event/april-9-2020/
END:VEVENT
END:VCALENDAR