BEGIN:VCALENDAR
VERSION:2.0
PRODID:-//Orange County Gastroenterology Society - ECPv4.6.12.1//NONSGML v1.0//EN
CALSCALE:GREGORIAN
METHOD:PUBLISH
X-WR-CALNAME:Orange County Gastroenterology Society
X-ORIGINAL-URL:http://www.ocgisociety.com
X-WR-CALDESC:Events for Orange County Gastroenterology Society
BEGIN:VEVENT
DTSTART;TZID=UTC+0:20210428T183000
DTEND;TZID=UTC+0:20210428T203000
DTSTAMP:20260424T171420
CREATED:20210330T040912Z
LAST-MODIFIED:20210330T040912Z
UID:950-1619634600-1619641800@www.ocgisociety.com
SUMMARY:April 28th\, 2021 OCGI Monthly Educational Dinner Meeting
DESCRIPTION:\n                            \n                                \n                            \n                        Gregory Albers\, MD of UCI Health will be presenting on Zenpep ® – Treating Exocrine Pancreatic Insufficiency at this month’s dinner sponsored by Nestlé Health Science. \n\n \nGregory Albers\, MD \nRegistration begins at 6:30 pm and the dinner presentation promptly at 7:00 pm.\n \nNon-members pay $25 at the door. Please consider supporting OCGI and becoming a member by checking out our Membership page.\n\n \n[captainform id=”760631″]\n
URL:http://www.ocgisociety.com/event/april-28th-2021/
LOCATION:3333 Bristol Street\, Costa Mesa\, CA\, 92626\, United States
END:VEVENT
END:VCALENDAR