BEGIN:VCALENDAR
VERSION:2.0
PRODID:-//Orange County Gastroenterology Society - ECPv4.6.12.1//NONSGML v1.0//EN
CALSCALE:GREGORIAN
METHOD:PUBLISH
X-WR-CALNAME:Orange County Gastroenterology Society
X-ORIGINAL-URL:http://www.ocgisociety.com
X-WR-CALDESC:Events for Orange County Gastroenterology Society
BEGIN:VEVENT
DTSTART;TZID=UTC+0:20230419T183000
DTEND;TZID=UTC+0:20230419T203000
DTSTAMP:20260424T073949
CREATED:20230108T220010Z
LAST-MODIFIED:20230316T193851Z
UID:1107-1681929000-1681936200@www.ocgisociety.com
SUMMARY:April 19th\, 2023 OCGI Monthly Educational Meeting
DESCRIPTION:\n                            \n                                \n                            \n                        \n\nDavid Leiman\, MD\, MBA will be presenting on ByFavo at this month’s dinner meeting sponsored by Eagle Pharmaceuticals Inc. \n\n\n \n \n \n \n\n \n \n\n \n \nDavid Leiman\, MD\, MBA\n \n\n\nRegistration begins at 6:30 pm and the dinner presentation promptly at 7:00 pm.\n \nNon-members pay $35 at the door. Please consider supporting OCGI and becoming a member by checking out our Membership page.\n\n \n[captainform id=”760631″]\n
URL:http://www.ocgisociety.com/event/april-19-2023/
LOCATION:1641 West Sunflower Avenue\, Santa Ana\, CA\, 92704\, United States
END:VEVENT
END:VCALENDAR