BEGIN:VCALENDAR
VERSION:2.0
PRODID:-//Orange County Gastroenterology Society - ECPv4.6.12.1//NONSGML v1.0//EN
CALSCALE:GREGORIAN
METHOD:PUBLISH
X-WR-CALNAME:Orange County Gastroenterology Society
X-ORIGINAL-URL:http://www.ocgisociety.com
X-WR-CALDESC:Events for Orange County Gastroenterology Society
BEGIN:VEVENT
DTSTART;TZID=UTC+0:20180418T183000
DTEND;TZID=UTC+0:20180418T210000
DTSTAMP:20260424T014452
CREATED:20180326T002711Z
LAST-MODIFIED:20180401T204342Z
UID:731-1524076200-1524085200@www.ocgisociety.com
SUMMARY:April 18\, 2018 OCGI Monthly Educational Dinner Program
DESCRIPTION:\n                            \n                                \n                            \n                        OCGI’s April 18\, 2018 Monthly Education Dinner is sponsored by Janssen Biotech at the beautiful Mastro’s Steakhouse in Costa Mesa.   Douglas Nguyen\, MD of UC Irvine Health will be speaking on Consider STELARA as a First-Line Biologic Treatment for Adults with Moderately to Servely Active Crohn’s Disease. \nDr. Douglas L. Nguyen is fellowship-trained UC Irvine Health specialist in gastroenterology and hepatology. He has additional expertise in inflammatory bowel disease. His clinical interests include high-risk inflammatory bowel disease\, intestinal failure\, irritable bowel syndrome and chronic liver disease. \nGuest Speaker\, Douglas L. Nguyen\, MD\nNon-members pay $25 at the door. Please consider supporting OCGI and joining us. \n[captainform id=”760631″] \n
URL:http://www.ocgisociety.com/event/april-18-2018/
LOCATION:633 Anton Boulevard\, Costa Mesa\, CA\, 92626\, United States
CATEGORIES:OCGI Monthly Educational Dinner Meeting
END:VEVENT
END:VCALENDAR