BEGIN:VCALENDAR
VERSION:2.0
PRODID:-//Orange County Gastroenterology Society - ECPv4.6.12.1//NONSGML v1.0//EN
CALSCALE:GREGORIAN
METHOD:PUBLISH
X-WR-CALNAME:Orange County Gastroenterology Society
X-ORIGINAL-URL:http://www.ocgisociety.com
X-WR-CALDESC:Events for Orange County Gastroenterology Society
BEGIN:VEVENT
DTSTART;TZID=UTC+0:20190417T183000
DTEND;TZID=UTC+0:20190417T210000
DTSTAMP:20260424T205924
CREATED:20190207T040159Z
LAST-MODIFIED:20190403T050222Z
UID:825-1555525800-1555534800@www.ocgisociety.com
SUMMARY:April 17\, 2019 OCGI Monthly Educational Dinner Program
DESCRIPTION:\n                            \n                                \n                            \n                        OCGI’s April 17\, 2019 Monthly Educational Dinner Program is a CME qualifying presentation by Simply Speaking NASH.  Zeid Kayali\, MD will be presenting on Clinical Trials in NASH:  Lessons Learned and Clinical Implications. \nZeid Kayali\, MD\n \nRegistration begins at 6:30 pm and the dinner presentation promptly at 7:00 pm.\n \nNon-members pay $25 at the door. Please consider supporting OCGI and becoming a member by checking out our Membership page.\n \n[captainform id=”760631″]\n
URL:http://www.ocgisociety.com/event/april-17-2019/
LOCATION:3333 Bristol Street\, Costa Mesa\, CA\, 92626\, United States
END:VEVENT
END:VCALENDAR