BEGIN:VCALENDAR
VERSION:2.0
PRODID:-//Orange County Gastroenterology Society - ECPv4.6.12.1//NONSGML v1.0//EN
CALSCALE:GREGORIAN
METHOD:PUBLISH
X-WR-CALNAME:Orange County Gastroenterology Society
X-ORIGINAL-URL:http://www.ocgisociety.com
X-WR-CALDESC:Events for Orange County Gastroenterology Society
BEGIN:VEVENT
DTSTART;TZID=UTC+0:20250415T183000
DTEND;TZID=UTC+0:20250415T203000
DTSTAMP:20260424T013915
CREATED:20241118T211133Z
LAST-MODIFIED:20250401T201144Z
UID:1254-1744741800-1744749000@www.ocgisociety.com
SUMMARY:April 15th\, 2025 OCGI Monthly Educational Meeting
DESCRIPTION:\n                            \n                                \n                            \n                        \n\n\n\nDouglas Nguyen\, MD of Loma Linda University Health will be presenting on Updates in IBD Management at this month’s dinner meeting sponsored by Celltrion.  \n\n\n\n\n \n\nDouglas Nguyen\, MD\n\n\n \nRegistration begins at 6:30 pm and the dinner presentation promptly at 7:00 pm.\n \nNon-members pay $35 at the door. Please consider supporting OCGI and becoming a member by checking out our Membership page.\n\n \n[captainform id=”760631″]\n
URL:http://www.ocgisociety.com/event/april-15th-2025/
LOCATION:3333 Bristol Street\, Costa Mesa\, CA\, 92626\, United States
END:VEVENT
END:VCALENDAR