BEGIN:VCALENDAR
VERSION:2.0
PRODID:-//Orange County Gastroenterology Society - ECPv4.6.12.1//NONSGML v1.0//EN
CALSCALE:GREGORIAN
METHOD:PUBLISH
X-WR-CALNAME:Orange County Gastroenterology Society
X-ORIGINAL-URL:http://www.ocgisociety.com
X-WR-CALDESC:Events for Orange County Gastroenterology Society
BEGIN:VEVENT
DTSTART;TZID=UTC+0:20200415T183000
DTEND;TZID=UTC+0:20200415T203000
DTSTAMP:20260424T164733
CREATED:20200127T185833Z
LAST-MODIFIED:20200127T185833Z
UID:918-1586975400-1586982600@www.ocgisociety.com
SUMMARY:April 15\, 2020 OCGI Monthly Educational Dinner Meeting
DESCRIPTION:\n                            \n                                \n                            \n                        Registration begins at 6:30 pm and the dinner presentation promptly at 7:00 pm.\n \nNon-members pay $25 at the door. Please consider supporting OCGI and becoming a member by checking out our Membership page.\n
URL:http://www.ocgisociety.com/event/april-15-2020/
END:VEVENT
END:VCALENDAR